BEGIN:VCALENDAR
VERSION:2.0
PRODID:-//Scribbling Women - ECPv6.15.20//NONSGML v1.0//EN
CALSCALE:GREGORIAN
METHOD:PUBLISH
X-WR-CALNAME:Scribbling Women
X-ORIGINAL-URL:https://www.scribblingwomen.online
X-WR-CALDESC:Events for Scribbling Women
REFRESH-INTERVAL;VALUE=DURATION:PT1H
X-Robots-Tag:noindex
X-PUBLISHED-TTL:PT1H
BEGIN:VTIMEZONE
TZID:America/Los_Angeles
BEGIN:DAYLIGHT
TZOFFSETFROM:-0800
TZOFFSETTO:-0700
TZNAME:PDT
DTSTART:20250309T100000
END:DAYLIGHT
BEGIN:STANDARD
TZOFFSETFROM:-0700
TZOFFSETTO:-0800
TZNAME:PST
DTSTART:20251102T090000
END:STANDARD
BEGIN:DAYLIGHT
TZOFFSETFROM:-0800
TZOFFSETTO:-0700
TZNAME:PDT
DTSTART:20260308T100000
END:DAYLIGHT
BEGIN:STANDARD
TZOFFSETFROM:-0700
TZOFFSETTO:-0800
TZNAME:PST
DTSTART:20261101T090000
END:STANDARD
BEGIN:DAYLIGHT
TZOFFSETFROM:-0800
TZOFFSETTO:-0700
TZNAME:PDT
DTSTART:20270314T100000
END:DAYLIGHT
BEGIN:STANDARD
TZOFFSETFROM:-0700
TZOFFSETTO:-0800
TZNAME:PST
DTSTART:20271107T090000
END:STANDARD
END:VTIMEZONE
BEGIN:VEVENT
DTSTART;VALUE=DATE:20260330
DTEND;VALUE=DATE:20260331
DTSTAMP:20260421T084215
CREATED:20260119T231530Z
LAST-MODIFIED:20260330T221817Z
UID:1669-1774828800-1774915199@www.scribblingwomen.online
SUMMARY:Meet the Author: Janelle Baldwin\, Epitaph
DESCRIPTION:Facilitated by Nancy. With a hands-on workshop related to a theme or writing skill highlighted in Janelle Baldwin’s book. \nWhen? \n\n1PM Pacific\n2PM Mountain\n3PM Central\n4PM Eastern\n\nZoom Link: https://us02web.zoom.us/j/83412892158
URL:https://www.scribblingwomen.online/event/meet-the-author-janelle-baldwin-epitaph/
END:VEVENT
END:VCALENDAR