BEGIN:VCALENDAR
VERSION:2.0
PRODID:-//Scribbling Women - ECPv6.15.20//NONSGML v1.0//EN
CALSCALE:GREGORIAN
METHOD:PUBLISH
X-WR-CALNAME:Scribbling Women
X-ORIGINAL-URL:https://www.scribblingwomen.online
X-WR-CALDESC:Events for Scribbling Women
REFRESH-INTERVAL;VALUE=DURATION:PT1H
X-Robots-Tag:noindex
X-PUBLISHED-TTL:PT1H
BEGIN:VTIMEZONE
TZID:America/Los_Angeles
BEGIN:DAYLIGHT
TZOFFSETFROM:-0800
TZOFFSETTO:-0700
TZNAME:PDT
DTSTART:20250309T100000
END:DAYLIGHT
BEGIN:STANDARD
TZOFFSETFROM:-0700
TZOFFSETTO:-0800
TZNAME:PST
DTSTART:20251102T090000
END:STANDARD
BEGIN:DAYLIGHT
TZOFFSETFROM:-0800
TZOFFSETTO:-0700
TZNAME:PDT
DTSTART:20260308T100000
END:DAYLIGHT
BEGIN:STANDARD
TZOFFSETFROM:-0700
TZOFFSETTO:-0800
TZNAME:PST
DTSTART:20261101T090000
END:STANDARD
BEGIN:DAYLIGHT
TZOFFSETFROM:-0800
TZOFFSETTO:-0700
TZNAME:PDT
DTSTART:20270314T100000
END:DAYLIGHT
BEGIN:STANDARD
TZOFFSETFROM:-0700
TZOFFSETTO:-0800
TZNAME:PST
DTSTART:20271107T090000
END:STANDARD
END:VTIMEZONE
BEGIN:VEVENT
DTSTART;VALUE=DATE:20260622
DTEND;VALUE=DATE:20260623
DTSTAMP:20260421T070659
CREATED:20260119T232920Z
LAST-MODIFIED:20260119T232920Z
UID:1683-1782086400-1782172799@www.scribblingwomen.online
SUMMARY:Program: Staying Focused Over the Summer: what does “focus” mean to YOU?
DESCRIPTION:Facilitated by Nancy \nWhen? \n\n4PM Pacific\n5PM Mountain\n6PM Central\n7PM Eastern\n\nZoom Link: https://us02web.zoom.us/j/83412892158 \nMeeting ID: 834 1289 2158 \nOne tap mobile: \n\n+19292056099\,\,83412892158# US (New York)\n+13017158592\,\,83412892158# US (Washington DC)
URL:https://www.scribblingwomen.online/event/program-staying-focused-over-the-summer-what-does-focus-mean-to-you/
END:VEVENT
END:VCALENDAR