BEGIN:VCALENDAR
VERSION:2.0
PRODID:-//Scribbling Women - ECPv6.15.20//NONSGML v1.0//EN
CALSCALE:GREGORIAN
METHOD:PUBLISH
X-WR-CALNAME:Scribbling Women
X-ORIGINAL-URL:https://www.scribblingwomen.online
X-WR-CALDESC:Events for Scribbling Women
REFRESH-INTERVAL;VALUE=DURATION:PT1H
X-Robots-Tag:noindex
X-PUBLISHED-TTL:PT1H
BEGIN:VTIMEZONE
TZID:America/Los_Angeles
BEGIN:DAYLIGHT
TZOFFSETFROM:-0800
TZOFFSETTO:-0700
TZNAME:PDT
DTSTART:20250309T100000
END:DAYLIGHT
BEGIN:STANDARD
TZOFFSETFROM:-0700
TZOFFSETTO:-0800
TZNAME:PST
DTSTART:20251102T090000
END:STANDARD
BEGIN:DAYLIGHT
TZOFFSETFROM:-0800
TZOFFSETTO:-0700
TZNAME:PDT
DTSTART:20260308T100000
END:DAYLIGHT
BEGIN:STANDARD
TZOFFSETFROM:-0700
TZOFFSETTO:-0800
TZNAME:PST
DTSTART:20261101T090000
END:STANDARD
BEGIN:DAYLIGHT
TZOFFSETFROM:-0800
TZOFFSETTO:-0700
TZNAME:PDT
DTSTART:20270314T100000
END:DAYLIGHT
BEGIN:STANDARD
TZOFFSETFROM:-0700
TZOFFSETTO:-0800
TZNAME:PST
DTSTART:20271107T090000
END:STANDARD
END:VTIMEZONE
BEGIN:VEVENT
DTSTART;VALUE=DATE:20260425
DTEND;VALUE=DATE:20260426
DTSTAMP:20260421T070346
CREATED:20260119T232317Z
LAST-MODIFIED:20260119T232317Z
UID:1675-1777075200-1777161599@www.scribblingwomen.online
SUMMARY:Sharing Scribblies Live
DESCRIPTION:Focus on world building \nWhen? \n\n1PM Pacific\n2PM Mountain\n3PM Central\n4PM Eastern\n\nZoom Link: https://us02web.zoom.us/j/82352566912 \nMeeting ID: 823 5256 6912 \nOne tap mobile: \n\n+19292056099\,\,82352566912# US (New York)\n+13017158592\,\,82352566912# US (Washington DC)
URL:https://www.scribblingwomen.online/event/sharing-scribblies-live/
END:VEVENT
END:VCALENDAR