BEGIN:VCALENDAR
VERSION:2.0
PRODID:-//Scribbling Women - ECPv6.15.20//NONSGML v1.0//EN
CALSCALE:GREGORIAN
METHOD:PUBLISH
X-WR-CALNAME:Scribbling Women
X-ORIGINAL-URL:https://www.scribblingwomen.online
X-WR-CALDESC:Events for Scribbling Women
REFRESH-INTERVAL;VALUE=DURATION:PT1H
X-Robots-Tag:noindex
X-PUBLISHED-TTL:PT1H
BEGIN:VTIMEZONE
TZID:America/Los_Angeles
BEGIN:DAYLIGHT
TZOFFSETFROM:-0800
TZOFFSETTO:-0700
TZNAME:PDT
DTSTART:20240310T100000
END:DAYLIGHT
BEGIN:STANDARD
TZOFFSETFROM:-0700
TZOFFSETTO:-0800
TZNAME:PST
DTSTART:20241103T090000
END:STANDARD
BEGIN:DAYLIGHT
TZOFFSETFROM:-0800
TZOFFSETTO:-0700
TZNAME:PDT
DTSTART:20250309T100000
END:DAYLIGHT
BEGIN:STANDARD
TZOFFSETFROM:-0700
TZOFFSETTO:-0800
TZNAME:PST
DTSTART:20251102T090000
END:STANDARD
BEGIN:DAYLIGHT
TZOFFSETFROM:-0800
TZOFFSETTO:-0700
TZNAME:PDT
DTSTART:20260308T100000
END:DAYLIGHT
BEGIN:STANDARD
TZOFFSETFROM:-0700
TZOFFSETTO:-0800
TZNAME:PST
DTSTART:20261101T090000
END:STANDARD
BEGIN:DAYLIGHT
TZOFFSETFROM:-0800
TZOFFSETTO:-0700
TZNAME:PDT
DTSTART:20270314T100000
END:DAYLIGHT
BEGIN:STANDARD
TZOFFSETFROM:-0700
TZOFFSETTO:-0800
TZNAME:PST
DTSTART:20271107T090000
END:STANDARD
END:VTIMEZONE
BEGIN:VEVENT
DTSTART;VALUE=DATE:20260414
DTEND;VALUE=DATE:20260415
DTSTAMP:20260421T070702
CREATED:20251202T051043Z
LAST-MODIFIED:20251202T051043Z
UID:10001200-1776124800-1776211199@www.scribblingwomen.online
SUMMARY:Silent Scribbling : Morning
DESCRIPTION:With Janelle Schneider \n8am Pacific\n9am Mountain\n10am Central\n11am Eastern \nZoom Link: \nhttps://us02web.zoom.us/j/83412892158
URL:https://www.scribblingwomen.online/event/silent-scribbling-mornings/2026-04-14/
LOCATION:Zoom
END:VEVENT
BEGIN:VEVENT
DTSTART;VALUE=DATE:20260414
DTEND;VALUE=DATE:20260415
DTSTAMP:20260421T070702
CREATED:20251202T051043Z
LAST-MODIFIED:20251202T051043Z
UID:10000918-1776124800-1776211199@www.scribblingwomen.online
SUMMARY:Silent Scribblies : Evening
DESCRIPTION:With Pam Halter \n4PM PACIFIC\n5PM MOUNTAIN\n6PM CENTRAL\n7PM EASTERN \nZoom Link : https://us06web.zoom.us/j/7505794454?pwd=VjBQT1Rkd3pZVFcxNmtZakR3cE9iZz09
URL:https://www.scribblingwomen.online/event/silent-scribblies-evening/2026-04-14/
LOCATION:Zoom
END:VEVENT
BEGIN:VEVENT
DTSTART;VALUE=DATE:20260413
DTEND;VALUE=DATE:20260414
DTSTAMP:20260421T070702
CREATED:20260119T232045Z
LAST-MODIFIED:20260119T232045Z
UID:10001521-1776038400-1776124799@www.scribblingwomen.online
SUMMARY:Program: Creative Resistance — Maintaining Motivation As an Indie Author
DESCRIPTION:Facilitated by Nancy with the help of other Scribblies. \nWhen? \n\n4PM Pacific\n5PM Mountain\n6PM Central\n7PM Eastern\n\nZoom Link: https://us02web.zoom.us/j/83412892158 \nMeeting ID: 834 1289 2158 \nOne tap mobile: \n\n+19292056099\,\,83412892158# US (New York)\n+13017158592\,\,83412892158# US (Washington DC)
URL:https://www.scribblingwomen.online/event/program-creative-resistance-maintaining-motivation-as-an-indie-author/
END:VEVENT
BEGIN:VEVENT
DTSTART;VALUE=DATE:20260330
DTEND;VALUE=DATE:20260331
DTSTAMP:20260421T070702
CREATED:20260119T231530Z
LAST-MODIFIED:20260330T221817Z
UID:10001519-1774828800-1774915199@www.scribblingwomen.online
SUMMARY:Meet the Author: Janelle Baldwin\, Epitaph
DESCRIPTION:Facilitated by Nancy. With a hands-on workshop related to a theme or writing skill highlighted in Janelle Baldwin’s book. \nWhen? \n\n1PM Pacific\n2PM Mountain\n3PM Central\n4PM Eastern\n\nZoom Link: https://us02web.zoom.us/j/83412892158
URL:https://www.scribblingwomen.online/event/meet-the-author-janelle-baldwin-epitaph/
END:VEVENT
BEGIN:VEVENT
DTSTART;VALUE=DATE:20260314
DTEND;VALUE=DATE:20260315
DTSTAMP:20260421T070702
CREATED:20260119T231831Z
LAST-MODIFIED:20260217T181947Z
UID:10001520-1773446400-1773532799@www.scribblingwomen.online
SUMMARY:Monthly Zoom: Thinking Poetically
DESCRIPTION:Facilitated by Nancy and Susan Plett (and featuring others) \nWhen? \n\n1PM Pacific\n2PM Mountain\n3PM Central\n4PM Eastern\n\nZoom Link: https://us02web.zoom.us/j/83412892158 \nMeeting ID: 834 1289 2158 \nOne tap mobile: \n\n+19292056099\,\,83412892158# US (New York)\n+13017158592\,\,83412892158# US (Washington DC)
URL:https://www.scribblingwomen.online/event/monthly-zoom-doing-a-deep-dive-into-whatever-you-need-to-continue-well/
END:VEVENT
BEGIN:VEVENT
DTSTART;VALUE=DATE:20260221
DTEND;VALUE=DATE:20260222
DTSTAMP:20260421T070702
CREATED:20260119T231151Z
LAST-MODIFIED:20260217T182008Z
UID:10001518-1771632000-1771718399@www.scribblingwomen.online
SUMMARY:Thinking Poetically
DESCRIPTION:Facilitated by Nancy and Susan Plett (and featuring others) \nWhen? \n\n1PM Pacific\n2PM Mountain\n3PM Central\n4PM Eastern\n\nZoom Link: https://us02web.zoom.us/j/83412892158 \nMeeting ID: 834 1289 2158 \nOne tap mobile: \n\n+19292056099\,\,83412892158# US (New York)\n+13017158592\,\,83412892158# US (Washington DC)
URL:https://www.scribblingwomen.online/event/adding-to-our-art-supplies-thinking-poetically/
END:VEVENT
BEGIN:VEVENT
DTSTART;VALUE=DATE:20260209
DTEND;VALUE=DATE:20260210
DTSTAMP:20260421T070702
CREATED:20260119T231045Z
LAST-MODIFIED:20260119T231045Z
UID:10001517-1770595200-1770681599@www.scribblingwomen.online
SUMMARY:Program: The Ever-Changing Throughline
DESCRIPTION:Facilitated by Nancy and others. \nWhen? \n\n4PM Pacific\n5PM Mountain\n6PM Central\n7PM Eastern\n\nZoom Link: https://us02web.zoom.us/j/83412892158 \nMeeting ID: 834 1289 2158 \nOne tap mobile: \n\n+19292056099\,\,83412892158# US (New York)\n+13017158592\,\,83412892158# US (Washington DC)
URL:https://www.scribblingwomen.online/event/program-the-ever-changing-throughline/
END:VEVENT
BEGIN:VEVENT
DTSTART;VALUE=DATE:20260119
DTEND;VALUE=DATE:20260120
DTSTAMP:20260421T070702
CREATED:20260105T201201Z
LAST-MODIFIED:20260119T192938Z
UID:10001511-1768780800-1768867199@www.scribblingwomen.online
SUMMARY:Sharing Scribblings Live
DESCRIPTION:WHEN? \n\n4PM Pacific\n5PM Mountain\n6PM Central\n7PM Eastern\n\nZoom Link: https://us02web.zoom.us/j/81266294671 \nMeeting ID: 812 6629 4671 \nOne tap mobile: \n\n+19292056099\,\,81266294671# US (New York)\n+13017158592\,\,81266294671# US (Washington DC)
URL:https://www.scribblingwomen.online/event/sharing-scribblings-live-2/
END:VEVENT
BEGIN:VEVENT
DTSTART;VALUE=DATE:20260110
DTEND;VALUE=DATE:20260111
DTSTAMP:20260421T070702
CREATED:20260105T204148Z
LAST-MODIFIED:20260105T204148Z
UID:10001512-1768003200-1768089599@www.scribblingwomen.online
SUMMARY:Program: Setting Intentions/Accepting Invitations
DESCRIPTION:Led by Nancy and Janelle. \nWhen? \n\n1PM Pacific\n2PM Mountain\n3PM Central\n4PM Eastern\n\nZoom Link: https://us02web.zoom.us/j/83412892158 \nMeeting ID: 834 1289 2158 \nOne tap mobile: \n\n+19292056099\,\,83412892158# US (New York)\n+13017158592\,\,83412892158# US (Washington DC)
URL:https://www.scribblingwomen.online/event/program-setting-intentions-accepting-invitations/
END:VEVENT
BEGIN:VEVENT
DTSTART;VALUE=DATE:20251213
DTEND;VALUE=DATE:20251214
DTSTAMP:20260421T070702
CREATED:20250805T204320Z
LAST-MODIFIED:20250805T204320Z
UID:10001465-1765584000-1765670399@www.scribblingwomen.online
SUMMARY:Sparking Our Creativity With Fun!
DESCRIPTION:Led by Nancy with input from you and other Scribblies. \nWhen? \n\n1PM Pacific\n2PM Mountain\n3PM Central\n4PM Eastern\n\nZoom Link: https://us02web.zoom.us/j/83412892158 \nMeeting ID: 834 1289 2158 \nOne tap mobile: \n\n+19292056099\,\,83412892158# US (New York)\n+13017158592\,\,83412892158# US (Washington DC)
URL:https://www.scribblingwomen.online/event/sparking-our-creativity-with-fun/
END:VEVENT
BEGIN:VEVENT
DTSTART;VALUE=DATE:20251110
DTEND;VALUE=DATE:20251111
DTSTAMP:20260421T070702
CREATED:20250805T203757Z
LAST-MODIFIED:20250805T203757Z
UID:10001463-1762732800-1762819199@www.scribblingwomen.online
SUMMARY:Nature In the Writerly Life
DESCRIPTION:Led by Janelle Schneider \nWhen? \n\n4PM Pacific\n5PM Mountain\n6PM Central\n7PM Eastern\n\nZoom Link: https://us02web.zoom.us/j/83412892158 \nMeeting ID: 834 1289 2158 \nOne tap mobile: \n\n+19292056099\,\,83412892158# US (New York)\n+13017158592\,\,83412892158# US (Washington DC)
URL:https://www.scribblingwomen.online/event/nature-in-the-writerly-life/
END:VEVENT
BEGIN:VEVENT
DTSTART;VALUE=DATE:20251101
DTEND;VALUE=DATE:20251102
DTSTAMP:20260421T070702
CREATED:20250805T204046Z
LAST-MODIFIED:20251019T214650Z
UID:10001464-1761955200-1762041599@www.scribblingwomen.online
SUMMARY:Adding To Our Art Supplies Workshop: Why Can’t I Finish This Dadgum Book?
DESCRIPTION:Led by Nancy \nWhen? \n\n1PM Pacific\n2PM Mountain\n3PM Central\n4PM Eastern\n\nZoom Link: https://us02web.zoom.us/j/82352566912 \nMeeting ID: 823 5256 6912 \nOne tap mobile: \n\n+19292056099\,\,82352566912# US (New York)\n+13017158592\,\,82352566912# US (Washington DC)
URL:https://www.scribblingwomen.online/event/adding-to-our-art-supplies-workshop-keeping-our-writing-tight/
END:VEVENT
BEGIN:VEVENT
DTSTART;VALUE=DATE:20251020
DTEND;VALUE=DATE:20251021
DTSTAMP:20260421T070702
CREATED:20250805T202942Z
LAST-MODIFIED:20250805T202942Z
UID:10001461-1760918400-1761004799@www.scribblingwomen.online
SUMMARY:Sharing Scribblings Live
DESCRIPTION:WHEN? \n\n4PM Pacific\n5PM Mountain\n6PM Central\n7PM Eastern\n\nZoom Link: https://us02web.zoom.us/j/81266294671 \nMeeting ID: 812 6629 4671 \nOne tap mobile: \n\n+19292056099\,\,81266294671# US (New York)\n+13017158592\,\,81266294671# US (Washington DC)
URL:https://www.scribblingwomen.online/event/sharing-scribblings-live/
END:VEVENT
END:VCALENDAR