BEGIN:VCALENDAR
VERSION:2.0
PRODID:-//Scribbling Women - ECPv6.15.20//NONSGML v1.0//EN
CALSCALE:GREGORIAN
METHOD:PUBLISH
X-ORIGINAL-URL:https://www.scribblingwomen.online
X-WR-CALDESC:Events for Scribbling Women
REFRESH-INTERVAL;VALUE=DURATION:PT1H
X-Robots-Tag:noindex
X-PUBLISHED-TTL:PT1H
BEGIN:VTIMEZONE
TZID:America/Los_Angeles
BEGIN:DAYLIGHT
TZOFFSETFROM:-0800
TZOFFSETTO:-0700
TZNAME:PDT
DTSTART:20250309T100000
END:DAYLIGHT
BEGIN:STANDARD
TZOFFSETFROM:-0700
TZOFFSETTO:-0800
TZNAME:PST
DTSTART:20251102T090000
END:STANDARD
BEGIN:DAYLIGHT
TZOFFSETFROM:-0800
TZOFFSETTO:-0700
TZNAME:PDT
DTSTART:20260308T100000
END:DAYLIGHT
BEGIN:STANDARD
TZOFFSETFROM:-0700
TZOFFSETTO:-0800
TZNAME:PST
DTSTART:20261101T090000
END:STANDARD
BEGIN:DAYLIGHT
TZOFFSETFROM:-0800
TZOFFSETTO:-0700
TZNAME:PDT
DTSTART:20270314T100000
END:DAYLIGHT
BEGIN:STANDARD
TZOFFSETFROM:-0700
TZOFFSETTO:-0800
TZNAME:PST
DTSTART:20271107T090000
END:STANDARD
END:VTIMEZONE
BEGIN:VEVENT
DTSTART;VALUE=DATE:20260421
DTEND;VALUE=DATE:20260422
DTSTAMP:20260421T054100
CREATED:20251202T051043Z
LAST-MODIFIED:20251202T051043Z
UID:10001201-1776729600-1776815999@www.scribblingwomen.online
SUMMARY:Silent Scribbling : Morning
DESCRIPTION:With Janelle Schneider \n8am Pacific\n9am Mountain\n10am Central\n11am Eastern \nZoom Link: \nhttps://us02web.zoom.us/j/83412892158
URL:https://www.scribblingwomen.online/event/silent-scribbling-mornings/2026-04-21/
LOCATION:Zoom
END:VEVENT
BEGIN:VEVENT
DTSTART;VALUE=DATE:20260421
DTEND;VALUE=DATE:20260422
DTSTAMP:20260421T054100
CREATED:20251202T051043Z
LAST-MODIFIED:20251202T051043Z
UID:10000919-1776729600-1776815999@www.scribblingwomen.online
SUMMARY:Silent Scribblies : Evening
DESCRIPTION:With Pam Halter \n4PM PACIFIC\n5PM MOUNTAIN\n6PM CENTRAL\n7PM EASTERN \nZoom Link : https://us06web.zoom.us/j/7505794454?pwd=VjBQT1Rkd3pZVFcxNmtZakR3cE9iZz09
URL:https://www.scribblingwomen.online/event/silent-scribblies-evening/2026-04-21/
LOCATION:Zoom
END:VEVENT
BEGIN:VEVENT
DTSTART;VALUE=DATE:20260425
DTEND;VALUE=DATE:20260426
DTSTAMP:20260421T054100
CREATED:20260119T232317Z
LAST-MODIFIED:20260119T232317Z
UID:10001522-1777075200-1777161599@www.scribblingwomen.online
SUMMARY:Sharing Scribblies Live
DESCRIPTION:Focus on world building \nWhen? \n\n1PM Pacific\n2PM Mountain\n3PM Central\n4PM Eastern\n\nZoom Link: https://us02web.zoom.us/j/82352566912 \nMeeting ID: 823 5256 6912 \nOne tap mobile: \n\n+19292056099\,\,82352566912# US (New York)\n+13017158592\,\,82352566912# US (Washington DC)
URL:https://www.scribblingwomen.online/event/sharing-scribblies-live/
END:VEVENT
BEGIN:VEVENT
DTSTART;VALUE=DATE:20260430
DTEND;VALUE=DATE:20260501
DTSTAMP:20260421T054100
CREATED:20260420T183411Z
LAST-MODIFIED:20260420T183411Z
UID:10001553-1777507200-1777593599@www.scribblingwomen.online
SUMMARY:A Scribblie Side Quest: Creating\, Launching\, and Maintaining Marketing Plans
DESCRIPTION:An organized but flexible discussion in which we talk about what works\, where we can go for the technical stuff\, and how we can discover a plan that fits our own personalities\, abilities\, and strengths. \nWhen? \n\n4PM Pacific\n5PM Mountain\n6PM Central\n7PM Eastern\n\nZoom Link: https://us02web.zoom.us/j/81266294671 \nMeeting ID: 812 6629 4671 \nOne tap mobile: \n\n+19292056099\,\,81266294671# US (New York)\n+13017158592\,\,81266294671# US (Washington DC)
URL:https://www.scribblingwomen.online/event/a-scribblie-side-quest-creating-launching-and-maintaining-marketing-plans/
END:VEVENT
BEGIN:VEVENT
DTSTART;VALUE=DATE:20260511
DTEND;VALUE=DATE:20260512
DTSTAMP:20260421T054100
CREATED:20260119T232451Z
LAST-MODIFIED:20260119T232451Z
UID:10001523-1778457600-1778543999@www.scribblingwomen.online
SUMMARY:Adding To Our Art Supplies: The Full Story on Drafts
DESCRIPTION:Facilitated by Nancy. \nWhen? \n\n4PM Pacific\n5PM Mountain\n6PM Central\n7PM Eastern\n\nZoom Link: https://us02web.zoom.us/j/83412892158 \nMeeting ID: 834 1289 2158 \nOne tap mobile: \n\n+19292056099\,\,83412892158# US (New York)\n+13017158592\,\,83412892158# US (Washington DC)
URL:https://www.scribblingwomen.online/event/adding-to-our-art-supplies-the-full-story-on-drafts/
END:VEVENT
BEGIN:VEVENT
DTSTART;VALUE=DATE:20260530
DTEND;VALUE=DATE:20260531
DTSTAMP:20260421T054100
CREATED:20260119T232615Z
LAST-MODIFIED:20260119T232615Z
UID:10001524-1780099200-1780185599@www.scribblingwomen.online
SUMMARY:Monthly Zoom: The Beauty of the Mess
DESCRIPTION:Led by Janelle Schneider \nWhen? \n\n1PM Pacific\n2PM Mountain\n3PM Central\n4PM Eastern\n\nZoom Link: https://us02web.zoom.us/j/83412892158 \nMeeting ID: 834 1289 2158 \nOne tap mobile: \n\n+19292056099\,\,83412892158# US (New York)\n+13017158592\,\,83412892158# US (Washington DC)
URL:https://www.scribblingwomen.online/event/monthly-zoom-the-beauty-of-the-mess/
END:VEVENT
BEGIN:VEVENT
DTSTART;VALUE=DATE:20260613
DTEND;VALUE=DATE:20260614
DTSTAMP:20260421T054100
CREATED:20260119T232756Z
LAST-MODIFIED:20260119T232756Z
UID:10001525-1781308800-1781395199@www.scribblingwomen.online
SUMMARY:Meet the Author: Abigail Horgash\, The Rabbit Hole Journal
DESCRIPTION:Facilitated by Nancy. With a hands-on application of Abby’s method for attendees. \nWhen? \n\n1PM Pacific\n2PM Mountain\n3PM Central\n4PM Eastern\n\nZoom Link: https://us02web.zoom.us/j/81266294671 \nMeeting ID: 812 6629 4671 \nOne tap mobile: \n\n+19292056099\,\,81266294671# US (New York)\n+13017158592\,\,81266294671# US (Washington DC)
URL:https://www.scribblingwomen.online/event/meet-the-author-abigail-horgash-the-rabbit-hole-journal/
END:VEVENT
BEGIN:VEVENT
DTSTART;VALUE=DATE:20260622
DTEND;VALUE=DATE:20260623
DTSTAMP:20260421T054100
CREATED:20260119T232920Z
LAST-MODIFIED:20260119T232920Z
UID:10001526-1782086400-1782172799@www.scribblingwomen.online
SUMMARY:Program: Staying Focused Over the Summer: what does “focus” mean to YOU?
DESCRIPTION:Facilitated by Nancy \nWhen? \n\n4PM Pacific\n5PM Mountain\n6PM Central\n7PM Eastern\n\nZoom Link: https://us02web.zoom.us/j/83412892158 \nMeeting ID: 834 1289 2158 \nOne tap mobile: \n\n+19292056099\,\,83412892158# US (New York)\n+13017158592\,\,83412892158# US (Washington DC)
URL:https://www.scribblingwomen.online/event/program-staying-focused-over-the-summer-what-does-focus-mean-to-you/
END:VEVENT
END:VCALENDAR