BEGIN:VCALENDAR
VERSION:2.0
PRODID:-//Scribbling Women - ECPv6.15.20//NONSGML v1.0//EN
CALSCALE:GREGORIAN
METHOD:PUBLISH
X-WR-CALNAME:Scribbling Women
X-ORIGINAL-URL:https://www.scribblingwomen.online
X-WR-CALDESC:Events for Scribbling Women
REFRESH-INTERVAL;VALUE=DURATION:PT1H
X-Robots-Tag:noindex
X-PUBLISHED-TTL:PT1H
BEGIN:VTIMEZONE
TZID:America/Los_Angeles
BEGIN:DAYLIGHT
TZOFFSETFROM:-0800
TZOFFSETTO:-0700
TZNAME:PDT
DTSTART:20250309T100000
END:DAYLIGHT
BEGIN:STANDARD
TZOFFSETFROM:-0700
TZOFFSETTO:-0800
TZNAME:PST
DTSTART:20251102T090000
END:STANDARD
BEGIN:DAYLIGHT
TZOFFSETFROM:-0800
TZOFFSETTO:-0700
TZNAME:PDT
DTSTART:20260308T100000
END:DAYLIGHT
BEGIN:STANDARD
TZOFFSETFROM:-0700
TZOFFSETTO:-0800
TZNAME:PST
DTSTART:20261101T090000
END:STANDARD
BEGIN:DAYLIGHT
TZOFFSETFROM:-0800
TZOFFSETTO:-0700
TZNAME:PDT
DTSTART:20270314T100000
END:DAYLIGHT
BEGIN:STANDARD
TZOFFSETFROM:-0700
TZOFFSETTO:-0800
TZNAME:PST
DTSTART:20271107T090000
END:STANDARD
END:VTIMEZONE
BEGIN:VEVENT
DTSTART;VALUE=DATE:20260421
DTEND;VALUE=DATE:20260422
DTSTAMP:20260421T070745
CREATED:20251202T051043Z
LAST-MODIFIED:20251202T051043Z
UID:10000919-1776729600-1776815999@www.scribblingwomen.online
SUMMARY:Silent Scribblies : Evening
DESCRIPTION:With Pam Halter \n4PM PACIFIC\n5PM MOUNTAIN\n6PM CENTRAL\n7PM EASTERN \nZoom Link : https://us06web.zoom.us/j/7505794454?pwd=VjBQT1Rkd3pZVFcxNmtZakR3cE9iZz09
URL:https://www.scribblingwomen.online/event/silent-scribblies-evening/2026-04-21/
LOCATION:Zoom
END:VEVENT
BEGIN:VEVENT
DTSTART;VALUE=DATE:20260428
DTEND;VALUE=DATE:20260429
DTSTAMP:20260421T070745
CREATED:20251202T051043Z
LAST-MODIFIED:20251202T051043Z
UID:10000920-1777334400-1777420799@www.scribblingwomen.online
SUMMARY:Silent Scribblies : Evening
DESCRIPTION:With Pam Halter \n4PM PACIFIC\n5PM MOUNTAIN\n6PM CENTRAL\n7PM EASTERN \nZoom Link : https://us06web.zoom.us/j/7505794454?pwd=VjBQT1Rkd3pZVFcxNmtZakR3cE9iZz09
URL:https://www.scribblingwomen.online/event/silent-scribblies-evening/2026-04-28/
LOCATION:Zoom
END:VEVENT
BEGIN:VEVENT
DTSTART;VALUE=DATE:20260505
DTEND;VALUE=DATE:20260506
DTSTAMP:20260421T070745
CREATED:20251202T051043Z
LAST-MODIFIED:20251202T051043Z
UID:10000921-1777939200-1778025599@www.scribblingwomen.online
SUMMARY:Silent Scribblies : Evening
DESCRIPTION:With Pam Halter \n4PM PACIFIC\n5PM MOUNTAIN\n6PM CENTRAL\n7PM EASTERN \nZoom Link : https://us06web.zoom.us/j/7505794454?pwd=VjBQT1Rkd3pZVFcxNmtZakR3cE9iZz09
URL:https://www.scribblingwomen.online/event/silent-scribblies-evening/2026-05-05/
LOCATION:Zoom
END:VEVENT
BEGIN:VEVENT
DTSTART;VALUE=DATE:20260512
DTEND;VALUE=DATE:20260513
DTSTAMP:20260421T070745
CREATED:20251202T051043Z
LAST-MODIFIED:20251202T051043Z
UID:10000922-1778544000-1778630399@www.scribblingwomen.online
SUMMARY:Silent Scribblies : Evening
DESCRIPTION:With Pam Halter \n4PM PACIFIC\n5PM MOUNTAIN\n6PM CENTRAL\n7PM EASTERN \nZoom Link : https://us06web.zoom.us/j/7505794454?pwd=VjBQT1Rkd3pZVFcxNmtZakR3cE9iZz09
URL:https://www.scribblingwomen.online/event/silent-scribblies-evening/2026-05-12/
LOCATION:Zoom
END:VEVENT
BEGIN:VEVENT
DTSTART;VALUE=DATE:20260519
DTEND;VALUE=DATE:20260520
DTSTAMP:20260421T070745
CREATED:20251202T051043Z
LAST-MODIFIED:20251202T051043Z
UID:10000923-1779148800-1779235199@www.scribblingwomen.online
SUMMARY:Silent Scribblies : Evening
DESCRIPTION:With Pam Halter \n4PM PACIFIC\n5PM MOUNTAIN\n6PM CENTRAL\n7PM EASTERN \nZoom Link : https://us06web.zoom.us/j/7505794454?pwd=VjBQT1Rkd3pZVFcxNmtZakR3cE9iZz09
URL:https://www.scribblingwomen.online/event/silent-scribblies-evening/2026-05-19/
LOCATION:Zoom
END:VEVENT
BEGIN:VEVENT
DTSTART;VALUE=DATE:20260526
DTEND;VALUE=DATE:20260527
DTSTAMP:20260421T070745
CREATED:20251202T051043Z
LAST-MODIFIED:20251202T051043Z
UID:10000924-1779753600-1779839999@www.scribblingwomen.online
SUMMARY:Silent Scribblies : Evening
DESCRIPTION:With Pam Halter \n4PM PACIFIC\n5PM MOUNTAIN\n6PM CENTRAL\n7PM EASTERN \nZoom Link : https://us06web.zoom.us/j/7505794454?pwd=VjBQT1Rkd3pZVFcxNmtZakR3cE9iZz09
URL:https://www.scribblingwomen.online/event/silent-scribblies-evening/2026-05-26/
LOCATION:Zoom
END:VEVENT
BEGIN:VEVENT
DTSTART;VALUE=DATE:20260602
DTEND;VALUE=DATE:20260603
DTSTAMP:20260421T070745
CREATED:20251202T051043Z
LAST-MODIFIED:20251202T051043Z
UID:10000925-1780358400-1780444799@www.scribblingwomen.online
SUMMARY:Silent Scribblies : Evening
DESCRIPTION:With Pam Halter \n4PM PACIFIC\n5PM MOUNTAIN\n6PM CENTRAL\n7PM EASTERN \nZoom Link : https://us06web.zoom.us/j/7505794454?pwd=VjBQT1Rkd3pZVFcxNmtZakR3cE9iZz09
URL:https://www.scribblingwomen.online/event/silent-scribblies-evening/2026-06-02/
LOCATION:Zoom
END:VEVENT
BEGIN:VEVENT
DTSTART;VALUE=DATE:20260609
DTEND;VALUE=DATE:20260610
DTSTAMP:20260421T070745
CREATED:20251202T051043Z
LAST-MODIFIED:20251202T051043Z
UID:10000926-1780963200-1781049599@www.scribblingwomen.online
SUMMARY:Silent Scribblies : Evening
DESCRIPTION:With Pam Halter \n4PM PACIFIC\n5PM MOUNTAIN\n6PM CENTRAL\n7PM EASTERN \nZoom Link : https://us06web.zoom.us/j/7505794454?pwd=VjBQT1Rkd3pZVFcxNmtZakR3cE9iZz09
URL:https://www.scribblingwomen.online/event/silent-scribblies-evening/2026-06-09/
LOCATION:Zoom
END:VEVENT
BEGIN:VEVENT
DTSTART;VALUE=DATE:20260616
DTEND;VALUE=DATE:20260617
DTSTAMP:20260421T070745
CREATED:20251202T051043Z
LAST-MODIFIED:20251202T051043Z
UID:10000927-1781568000-1781654399@www.scribblingwomen.online
SUMMARY:Silent Scribblies : Evening
DESCRIPTION:With Pam Halter \n4PM PACIFIC\n5PM MOUNTAIN\n6PM CENTRAL\n7PM EASTERN \nZoom Link : https://us06web.zoom.us/j/7505794454?pwd=VjBQT1Rkd3pZVFcxNmtZakR3cE9iZz09
URL:https://www.scribblingwomen.online/event/silent-scribblies-evening/2026-06-16/
LOCATION:Zoom
END:VEVENT
BEGIN:VEVENT
DTSTART;VALUE=DATE:20260623
DTEND;VALUE=DATE:20260624
DTSTAMP:20260421T070745
CREATED:20251202T051043Z
LAST-MODIFIED:20251202T051043Z
UID:10000928-1782172800-1782259199@www.scribblingwomen.online
SUMMARY:Silent Scribblies : Evening
DESCRIPTION:With Pam Halter \n4PM PACIFIC\n5PM MOUNTAIN\n6PM CENTRAL\n7PM EASTERN \nZoom Link : https://us06web.zoom.us/j/7505794454?pwd=VjBQT1Rkd3pZVFcxNmtZakR3cE9iZz09
URL:https://www.scribblingwomen.online/event/silent-scribblies-evening/2026-06-23/
LOCATION:Zoom
END:VEVENT
BEGIN:VEVENT
DTSTART;VALUE=DATE:20260630
DTEND;VALUE=DATE:20260701
DTSTAMP:20260421T070745
CREATED:20251202T051043Z
LAST-MODIFIED:20251202T051043Z
UID:10000929-1782777600-1782863999@www.scribblingwomen.online
SUMMARY:Silent Scribblies : Evening
DESCRIPTION:With Pam Halter \n4PM PACIFIC\n5PM MOUNTAIN\n6PM CENTRAL\n7PM EASTERN \nZoom Link : https://us06web.zoom.us/j/7505794454?pwd=VjBQT1Rkd3pZVFcxNmtZakR3cE9iZz09
URL:https://www.scribblingwomen.online/event/silent-scribblies-evening/2026-06-30/
LOCATION:Zoom
END:VEVENT
BEGIN:VEVENT
DTSTART;VALUE=DATE:20260707
DTEND;VALUE=DATE:20260708
DTSTAMP:20260421T070745
CREATED:20251202T051043Z
LAST-MODIFIED:20251202T051043Z
UID:10000930-1783382400-1783468799@www.scribblingwomen.online
SUMMARY:Silent Scribblies : Evening
DESCRIPTION:With Pam Halter \n4PM PACIFIC\n5PM MOUNTAIN\n6PM CENTRAL\n7PM EASTERN \nZoom Link : https://us06web.zoom.us/j/7505794454?pwd=VjBQT1Rkd3pZVFcxNmtZakR3cE9iZz09
URL:https://www.scribblingwomen.online/event/silent-scribblies-evening/2026-07-07/
LOCATION:Zoom
END:VEVENT
BEGIN:VEVENT
DTSTART;VALUE=DATE:20260714
DTEND;VALUE=DATE:20260715
DTSTAMP:20260421T070745
CREATED:20251202T051043Z
LAST-MODIFIED:20251202T051043Z
UID:10000931-1783987200-1784073599@www.scribblingwomen.online
SUMMARY:Silent Scribblies : Evening
DESCRIPTION:With Pam Halter \n4PM PACIFIC\n5PM MOUNTAIN\n6PM CENTRAL\n7PM EASTERN \nZoom Link : https://us06web.zoom.us/j/7505794454?pwd=VjBQT1Rkd3pZVFcxNmtZakR3cE9iZz09
URL:https://www.scribblingwomen.online/event/silent-scribblies-evening/2026-07-14/
LOCATION:Zoom
END:VEVENT
BEGIN:VEVENT
DTSTART;VALUE=DATE:20260721
DTEND;VALUE=DATE:20260722
DTSTAMP:20260421T070745
CREATED:20251202T051043Z
LAST-MODIFIED:20251202T051043Z
UID:10000932-1784592000-1784678399@www.scribblingwomen.online
SUMMARY:Silent Scribblies : Evening
DESCRIPTION:With Pam Halter \n4PM PACIFIC\n5PM MOUNTAIN\n6PM CENTRAL\n7PM EASTERN \nZoom Link : https://us06web.zoom.us/j/7505794454?pwd=VjBQT1Rkd3pZVFcxNmtZakR3cE9iZz09
URL:https://www.scribblingwomen.online/event/silent-scribblies-evening/2026-07-21/
LOCATION:Zoom
END:VEVENT
BEGIN:VEVENT
DTSTART;VALUE=DATE:20260728
DTEND;VALUE=DATE:20260729
DTSTAMP:20260421T070745
CREATED:20251202T051043Z
LAST-MODIFIED:20251202T051043Z
UID:10000933-1785196800-1785283199@www.scribblingwomen.online
SUMMARY:Silent Scribblies : Evening
DESCRIPTION:With Pam Halter \n4PM PACIFIC\n5PM MOUNTAIN\n6PM CENTRAL\n7PM EASTERN \nZoom Link : https://us06web.zoom.us/j/7505794454?pwd=VjBQT1Rkd3pZVFcxNmtZakR3cE9iZz09
URL:https://www.scribblingwomen.online/event/silent-scribblies-evening/2026-07-28/
LOCATION:Zoom
END:VEVENT
BEGIN:VEVENT
DTSTART;VALUE=DATE:20260804
DTEND;VALUE=DATE:20260805
DTSTAMP:20260421T070745
CREATED:20251202T051043Z
LAST-MODIFIED:20251202T051043Z
UID:10000934-1785801600-1785887999@www.scribblingwomen.online
SUMMARY:Silent Scribblies : Evening
DESCRIPTION:With Pam Halter \n4PM PACIFIC\n5PM MOUNTAIN\n6PM CENTRAL\n7PM EASTERN \nZoom Link : https://us06web.zoom.us/j/7505794454?pwd=VjBQT1Rkd3pZVFcxNmtZakR3cE9iZz09
URL:https://www.scribblingwomen.online/event/silent-scribblies-evening/2026-08-04/
LOCATION:Zoom
END:VEVENT
BEGIN:VEVENT
DTSTART;VALUE=DATE:20260811
DTEND;VALUE=DATE:20260812
DTSTAMP:20260421T070745
CREATED:20251202T051043Z
LAST-MODIFIED:20251202T051043Z
UID:10000935-1786406400-1786492799@www.scribblingwomen.online
SUMMARY:Silent Scribblies : Evening
DESCRIPTION:With Pam Halter \n4PM PACIFIC\n5PM MOUNTAIN\n6PM CENTRAL\n7PM EASTERN \nZoom Link : https://us06web.zoom.us/j/7505794454?pwd=VjBQT1Rkd3pZVFcxNmtZakR3cE9iZz09
URL:https://www.scribblingwomen.online/event/silent-scribblies-evening/2026-08-11/
LOCATION:Zoom
END:VEVENT
BEGIN:VEVENT
DTSTART;VALUE=DATE:20260818
DTEND;VALUE=DATE:20260819
DTSTAMP:20260421T070745
CREATED:20251202T051043Z
LAST-MODIFIED:20251202T051043Z
UID:10000936-1787011200-1787097599@www.scribblingwomen.online
SUMMARY:Silent Scribblies : Evening
DESCRIPTION:With Pam Halter \n4PM PACIFIC\n5PM MOUNTAIN\n6PM CENTRAL\n7PM EASTERN \nZoom Link : https://us06web.zoom.us/j/7505794454?pwd=VjBQT1Rkd3pZVFcxNmtZakR3cE9iZz09
URL:https://www.scribblingwomen.online/event/silent-scribblies-evening/2026-08-18/
LOCATION:Zoom
END:VEVENT
BEGIN:VEVENT
DTSTART;VALUE=DATE:20260825
DTEND;VALUE=DATE:20260826
DTSTAMP:20260421T070745
CREATED:20251202T051043Z
LAST-MODIFIED:20251202T051043Z
UID:10000937-1787616000-1787702399@www.scribblingwomen.online
SUMMARY:Silent Scribblies : Evening
DESCRIPTION:With Pam Halter \n4PM PACIFIC\n5PM MOUNTAIN\n6PM CENTRAL\n7PM EASTERN \nZoom Link : https://us06web.zoom.us/j/7505794454?pwd=VjBQT1Rkd3pZVFcxNmtZakR3cE9iZz09
URL:https://www.scribblingwomen.online/event/silent-scribblies-evening/2026-08-25/
LOCATION:Zoom
END:VEVENT
BEGIN:VEVENT
DTSTART;VALUE=DATE:20260901
DTEND;VALUE=DATE:20260902
DTSTAMP:20260421T070745
CREATED:20251202T051043Z
LAST-MODIFIED:20251202T051043Z
UID:10000938-1788220800-1788307199@www.scribblingwomen.online
SUMMARY:Silent Scribblies : Evening
DESCRIPTION:With Pam Halter \n4PM PACIFIC\n5PM MOUNTAIN\n6PM CENTRAL\n7PM EASTERN \nZoom Link : https://us06web.zoom.us/j/7505794454?pwd=VjBQT1Rkd3pZVFcxNmtZakR3cE9iZz09
URL:https://www.scribblingwomen.online/event/silent-scribblies-evening/2026-09-01/
LOCATION:Zoom
END:VEVENT
BEGIN:VEVENT
DTSTART;VALUE=DATE:20260908
DTEND;VALUE=DATE:20260909
DTSTAMP:20260421T070745
CREATED:20251202T051043Z
LAST-MODIFIED:20251202T051043Z
UID:10000939-1788825600-1788911999@www.scribblingwomen.online
SUMMARY:Silent Scribblies : Evening
DESCRIPTION:With Pam Halter \n4PM PACIFIC\n5PM MOUNTAIN\n6PM CENTRAL\n7PM EASTERN \nZoom Link : https://us06web.zoom.us/j/7505794454?pwd=VjBQT1Rkd3pZVFcxNmtZakR3cE9iZz09
URL:https://www.scribblingwomen.online/event/silent-scribblies-evening/2026-09-08/
LOCATION:Zoom
END:VEVENT
BEGIN:VEVENT
DTSTART;VALUE=DATE:20260915
DTEND;VALUE=DATE:20260916
DTSTAMP:20260421T070745
CREATED:20251202T051043Z
LAST-MODIFIED:20251202T051043Z
UID:10000940-1789430400-1789516799@www.scribblingwomen.online
SUMMARY:Silent Scribblies : Evening
DESCRIPTION:With Pam Halter \n4PM PACIFIC\n5PM MOUNTAIN\n6PM CENTRAL\n7PM EASTERN \nZoom Link : https://us06web.zoom.us/j/7505794454?pwd=VjBQT1Rkd3pZVFcxNmtZakR3cE9iZz09
URL:https://www.scribblingwomen.online/event/silent-scribblies-evening/2026-09-15/
LOCATION:Zoom
END:VEVENT
BEGIN:VEVENT
DTSTART;VALUE=DATE:20260922
DTEND;VALUE=DATE:20260923
DTSTAMP:20260421T070745
CREATED:20251202T051043Z
LAST-MODIFIED:20251202T051043Z
UID:10000941-1790035200-1790121599@www.scribblingwomen.online
SUMMARY:Silent Scribblies : Evening
DESCRIPTION:With Pam Halter \n4PM PACIFIC\n5PM MOUNTAIN\n6PM CENTRAL\n7PM EASTERN \nZoom Link : https://us06web.zoom.us/j/7505794454?pwd=VjBQT1Rkd3pZVFcxNmtZakR3cE9iZz09
URL:https://www.scribblingwomen.online/event/silent-scribblies-evening/2026-09-22/
LOCATION:Zoom
END:VEVENT
BEGIN:VEVENT
DTSTART;VALUE=DATE:20260929
DTEND;VALUE=DATE:20260930
DTSTAMP:20260421T070745
CREATED:20251202T051043Z
LAST-MODIFIED:20251202T051043Z
UID:10000942-1790640000-1790726399@www.scribblingwomen.online
SUMMARY:Silent Scribblies : Evening
DESCRIPTION:With Pam Halter \n4PM PACIFIC\n5PM MOUNTAIN\n6PM CENTRAL\n7PM EASTERN \nZoom Link : https://us06web.zoom.us/j/7505794454?pwd=VjBQT1Rkd3pZVFcxNmtZakR3cE9iZz09
URL:https://www.scribblingwomen.online/event/silent-scribblies-evening/2026-09-29/
LOCATION:Zoom
END:VEVENT
BEGIN:VEVENT
DTSTART;VALUE=DATE:20261006
DTEND;VALUE=DATE:20261007
DTSTAMP:20260421T070745
CREATED:20251202T051043Z
LAST-MODIFIED:20251202T051043Z
UID:10000943-1791244800-1791331199@www.scribblingwomen.online
SUMMARY:Silent Scribblies : Evening
DESCRIPTION:With Pam Halter \n4PM PACIFIC\n5PM MOUNTAIN\n6PM CENTRAL\n7PM EASTERN \nZoom Link : https://us06web.zoom.us/j/7505794454?pwd=VjBQT1Rkd3pZVFcxNmtZakR3cE9iZz09
URL:https://www.scribblingwomen.online/event/silent-scribblies-evening/2026-10-06/
LOCATION:Zoom
END:VEVENT
BEGIN:VEVENT
DTSTART;VALUE=DATE:20261013
DTEND;VALUE=DATE:20261014
DTSTAMP:20260421T070745
CREATED:20251202T051043Z
LAST-MODIFIED:20251202T051043Z
UID:10000944-1791849600-1791935999@www.scribblingwomen.online
SUMMARY:Silent Scribblies : Evening
DESCRIPTION:With Pam Halter \n4PM PACIFIC\n5PM MOUNTAIN\n6PM CENTRAL\n7PM EASTERN \nZoom Link : https://us06web.zoom.us/j/7505794454?pwd=VjBQT1Rkd3pZVFcxNmtZakR3cE9iZz09
URL:https://www.scribblingwomen.online/event/silent-scribblies-evening/2026-10-13/
LOCATION:Zoom
END:VEVENT
BEGIN:VEVENT
DTSTART;VALUE=DATE:20261020
DTEND;VALUE=DATE:20261021
DTSTAMP:20260421T070745
CREATED:20251202T051043Z
LAST-MODIFIED:20251202T051043Z
UID:10000945-1792454400-1792540799@www.scribblingwomen.online
SUMMARY:Silent Scribblies : Evening
DESCRIPTION:With Pam Halter \n4PM PACIFIC\n5PM MOUNTAIN\n6PM CENTRAL\n7PM EASTERN \nZoom Link : https://us06web.zoom.us/j/7505794454?pwd=VjBQT1Rkd3pZVFcxNmtZakR3cE9iZz09
URL:https://www.scribblingwomen.online/event/silent-scribblies-evening/2026-10-20/
LOCATION:Zoom
END:VEVENT
BEGIN:VEVENT
DTSTART;VALUE=DATE:20261027
DTEND;VALUE=DATE:20261028
DTSTAMP:20260421T070745
CREATED:20251202T051043Z
LAST-MODIFIED:20251202T051043Z
UID:10000946-1793059200-1793145599@www.scribblingwomen.online
SUMMARY:Silent Scribblies : Evening
DESCRIPTION:With Pam Halter \n4PM PACIFIC\n5PM MOUNTAIN\n6PM CENTRAL\n7PM EASTERN \nZoom Link : https://us06web.zoom.us/j/7505794454?pwd=VjBQT1Rkd3pZVFcxNmtZakR3cE9iZz09
URL:https://www.scribblingwomen.online/event/silent-scribblies-evening/2026-10-27/
LOCATION:Zoom
END:VEVENT
BEGIN:VEVENT
DTSTART;VALUE=DATE:20261103
DTEND;VALUE=DATE:20261104
DTSTAMP:20260421T070745
CREATED:20251202T051043Z
LAST-MODIFIED:20251202T051043Z
UID:10000947-1793664000-1793750399@www.scribblingwomen.online
SUMMARY:Silent Scribblies : Evening
DESCRIPTION:With Pam Halter \n4PM PACIFIC\n5PM MOUNTAIN\n6PM CENTRAL\n7PM EASTERN \nZoom Link : https://us06web.zoom.us/j/7505794454?pwd=VjBQT1Rkd3pZVFcxNmtZakR3cE9iZz09
URL:https://www.scribblingwomen.online/event/silent-scribblies-evening/2026-11-03/
LOCATION:Zoom
END:VEVENT
BEGIN:VEVENT
DTSTART;VALUE=DATE:20261110
DTEND;VALUE=DATE:20261111
DTSTAMP:20260421T070745
CREATED:20251202T051043Z
LAST-MODIFIED:20251202T051043Z
UID:10000948-1794268800-1794355199@www.scribblingwomen.online
SUMMARY:Silent Scribblies : Evening
DESCRIPTION:With Pam Halter \n4PM PACIFIC\n5PM MOUNTAIN\n6PM CENTRAL\n7PM EASTERN \nZoom Link : https://us06web.zoom.us/j/7505794454?pwd=VjBQT1Rkd3pZVFcxNmtZakR3cE9iZz09
URL:https://www.scribblingwomen.online/event/silent-scribblies-evening/2026-11-10/
LOCATION:Zoom
END:VEVENT
END:VCALENDAR